BEGIN:VCALENDAR
VERSION:2.0
PRODID:-//www.aegerten.ch//NONSGML kigkonsult.se iCalcreator 2.22//
CALSCALE:GREGORIAN
METHOD:PUBLISH
X-WR-TIMEZONE:Europe/Berlin
BEGIN:VEVENT
UID:20260421T124913CEST-2438nSMPIi@www.aegerten.ch
DTSTAMP:20260421T104913Z
DESCRIPTION:Klicken Sie auf den folgenden Link\, um weitere Informationen z
 ur Veranstaltung zu erhalten:\nhttp://www.aegerten.ch/de/veranstaltungen/d
 etail/detail.php?i=304
DTSTART:20260509T110000
DTEND:20260509T180000
LOCATION:Schulhausareal und Mehrzweckhalle
SUMMARY:Frühlingsfest
END:VEVENT
END:VCALENDAR
